BEGIN:VCALENDAR
VERSION:2.0
PRODID:-//SERVE - ECPv6.15.17.1//NONSGML v1.0//EN
CALSCALE:GREGORIAN
METHOD:PUBLISH
X-WR-CALNAME:SERVE
X-ORIGINAL-URL:https://serve.uncg.edu
X-WR-CALDESC:Events for SERVE
REFRESH-INTERVAL;VALUE=DURATION:PT1H
X-Robots-Tag:noindex
X-PUBLISHED-TTL:PT1H
BEGIN:VTIMEZONE
TZID:America/New_York
BEGIN:DAYLIGHT
TZOFFSETFROM:-0500
TZOFFSETTO:-0400
TZNAME:EDT
DTSTART:20250309T070000
END:DAYLIGHT
BEGIN:STANDARD
TZOFFSETFROM:-0400
TZOFFSETTO:-0500
TZNAME:EST
DTSTART:20251102T060000
END:STANDARD
BEGIN:DAYLIGHT
TZOFFSETFROM:-0500
TZOFFSETTO:-0400
TZNAME:EDT
DTSTART:20260308T070000
END:DAYLIGHT
BEGIN:STANDARD
TZOFFSETFROM:-0400
TZOFFSETTO:-0500
TZNAME:EST
DTSTART:20261101T060000
END:STANDARD
BEGIN:DAYLIGHT
TZOFFSETFROM:-0500
TZOFFSETTO:-0400
TZNAME:EDT
DTSTART:20270314T070000
END:DAYLIGHT
BEGIN:STANDARD
TZOFFSETFROM:-0400
TZOFFSETTO:-0500
TZNAME:EST
DTSTART:20271107T060000
END:STANDARD
END:VTIMEZONE
BEGIN:VEVENT
DTSTART;VALUE=DATE:20260319
DTEND;VALUE=DATE:20260322
DTSTAMP:20260423T000931
CREATED:20260311T125124Z
LAST-MODIFIED:20260319T184626Z
UID:10326-1773878400-1774137599@serve.uncg.edu
SUMMARY:AEFP Conference
DESCRIPTION:AEFP 51st Annual Conference: Sustaining Education Research And Evidence In A Turbulent Era\nMarch 19 – 21\, 2026\nSwissôtel Chicago\, Chicago\, Illinois \nEarly College Research Center staff and project partners will be presenting the following: \nMarch 19\, 8:15 am: Marieke Visser\, ECRC Quantitative Research Specialist – What happens after students fail a dual enrollment course? \nMarch 19\, 8:15 am: Brian Phillips\, ECRC project partner\, RAND – Dual Enrollment Course Delivery Modalities: Who Participates\, Who Succeeds\, and What Happens Next? \nMarch 20\, 2:45 pm: Steven Hemelt\, ECRC project partner\, UNC-Chapel Hill Department of Public Policy – Transfer\, Accelerate\, Complete\, Engage (TrACE): Experimental Evidence on Transfer Student Success at Four-Year Universities in North Carolina \nMarch 21\, 8:15 am: Julie Edmunds\, ECRC Director – The Transfer of College Credits Earned in High School \n  \nhttps://aefpweb.org/2026conference
URL:https://serve.uncg.edu/event/aefp-conference/
CATEGORIES:Early College Research Center
END:VEVENT
BEGIN:VEVENT
DTSTART;TZID=America/New_York:20260319T100000
DTEND;TZID=America/New_York:20260319T110000
DTSTAMP:20260423T000931
CREATED:20260319T152731Z
LAST-MODIFIED:20260319T152731Z
UID:10367-1773914400-1773918000@serve.uncg.edu
SUMMARY:New Homeless Liaison Monthly Office Hour
DESCRIPTION:@ 			\n			\n							 \n\nNCHEP is offering monthly virtual “office hours” for new homeless liaisons every third Thursday. These optional sessions are designed to deepen your understanding of the homeless liaison role and provide practical support from our office. \nFor more information\, contact Beth Branagan at Beth.Branagan@dpi.nc.gov. \n\n\nNC Homeless Education Program\n \n336.315.7400 \nView Organizer Website \n \n\n\n\n\n\n\n						\n	\n	\n\n						\n							Add to calendar						\n						\n	\n\n					\n\n\n\n									\n										Google Calendar									\n								\n\n									\n										iCalendar									\n								\n\n									\n										Outlook 365									\n								\n\n									\n										Outlook Live
URL:https://serve.uncg.edu/event/new-homeless-liaison-monthly-office-hour/
CATEGORIES:NC Homeless Education Program,Traditional
ATTACH;FMTTYPE=image/png:https://serve.uncg.edu/wp-content/uploads/2026/03/Office-Hours-UEwH2r.tmp_.png
END:VEVENT
END:VCALENDAR