BEGIN:VCALENDAR
VERSION:2.0
PRODID:-//SERVE - ECPv6.15.17.1//NONSGML v1.0//EN
CALSCALE:GREGORIAN
METHOD:PUBLISH
X-WR-CALNAME:SERVE
X-ORIGINAL-URL:https://serve.uncg.edu
X-WR-CALDESC:Events for SERVE
REFRESH-INTERVAL;VALUE=DURATION:PT1H
X-Robots-Tag:noindex
X-PUBLISHED-TTL:PT1H
BEGIN:VTIMEZONE
TZID:America/New_York
BEGIN:DAYLIGHT
TZOFFSETFROM:-0500
TZOFFSETTO:-0400
TZNAME:EDT
DTSTART:20230312T070000
END:DAYLIGHT
BEGIN:STANDARD
TZOFFSETFROM:-0400
TZOFFSETTO:-0500
TZNAME:EST
DTSTART:20231105T060000
END:STANDARD
BEGIN:DAYLIGHT
TZOFFSETFROM:-0500
TZOFFSETTO:-0400
TZNAME:EDT
DTSTART:20240310T070000
END:DAYLIGHT
BEGIN:STANDARD
TZOFFSETFROM:-0400
TZOFFSETTO:-0500
TZNAME:EST
DTSTART:20241103T060000
END:STANDARD
BEGIN:DAYLIGHT
TZOFFSETFROM:-0500
TZOFFSETTO:-0400
TZNAME:EDT
DTSTART:20250309T070000
END:DAYLIGHT
BEGIN:STANDARD
TZOFFSETFROM:-0400
TZOFFSETTO:-0500
TZNAME:EST
DTSTART:20251102T060000
END:STANDARD
END:VTIMEZONE
BEGIN:VEVENT
DTSTART;TZID=America/New_York:20240722T090000
DTEND;TZID=America/New_York:20240722T153000
DTSTAMP:20260420T084010
CREATED:20240517T214038Z
LAST-MODIFIED:20240517T214038Z
UID:6955-1721638800-1721662200@serve.uncg.edu
SUMMARY:Belonging and Wellbeing in Education: NC Showcase
DESCRIPTION:Join us for a dynamic and engaging event aimed at empowering educators to enhance student academic outcomes through prioritizing educator wellbeing and skill development. Through engaging\, interactive sessions presented by district and school leaders\, learn how local educators use tools and resources to design and support the holistic wellbeing of their districts. \nSessions will delve into practical strategies to nurture the wellbeing of educators and students\, while also addressing approaches for local adaptation. Participants will have the opportunity to forge meaningful connections with fellow educators and community partners from across the state\, fostering a supportive network that sustains and enhances a statewide culture of wellbeing. \nVisit the Belonging & Wellbeing in Education: NC Showcase web page for more information and to register.
URL:https://serve.uncg.edu/event/belonging-and-wellbeing-in-education-nc-showcase/
END:VEVENT
END:VCALENDAR